BEGIN:VCALENDAR
VERSION:2.0
PRODID:-//jEvents 2.0 for Joomla//EN
CALSCALE:GREGORIAN
METHOD:PUBLISH
BEGIN:VTIMEZONE
TZID:Europe/Berlin
BEGIN:STANDARD
DTSTART:20201125T190000
RDATE:20210328T030000
TZOFFSETFROM:+0200
TZOFFSETTO:+0100
TZNAME:Europe/Berlin CET
END:STANDARD
BEGIN:STANDARD
DTSTART:20211031T020000
RDATE:20220327T030000
TZOFFSETFROM:+0200
TZOFFSETTO:+0100
TZNAME:Europe/Berlin CET
END:STANDARD
BEGIN:STANDARD
DTSTART:20221030T020000
RDATE:20230326T030000
TZOFFSETFROM:+0200
TZOFFSETTO:+0100
TZNAME:Europe/Berlin CET
END:STANDARD
BEGIN:STANDARD
DTSTART:20231029T020000
RDATE:20240331T030000
TZOFFSETFROM:+0200
TZOFFSETTO:+0100
TZNAME:Europe/Berlin CET
END:STANDARD
BEGIN:STANDARD
DTSTART:20241027T020000
RDATE:20250330T030000
TZOFFSETFROM:+0200
TZOFFSETTO:+0100
TZNAME:Europe/Berlin CET
END:STANDARD
BEGIN:STANDARD
DTSTART:20251026T020000
RDATE:20260329T030000
TZOFFSETFROM:+0200
TZOFFSETTO:+0100
TZNAME:Europe/Berlin CET
END:STANDARD
BEGIN:STANDARD
DTSTART:20261025T020000
RDATE:20270328T030000
TZOFFSETFROM:+0200
TZOFFSETTO:+0100
TZNAME:Europe/Berlin CET
END:STANDARD
BEGIN:STANDARD
DTSTART:20271031T020000
RDATE:20280326T030000
TZOFFSETFROM:+0200
TZOFFSETTO:+0100
TZNAME:Europe/Berlin CET
END:STANDARD
BEGIN:STANDARD
DTSTART:20281029T020000
RDATE:20290325T030000
TZOFFSETFROM:+0200
TZOFFSETTO:+0100
TZNAME:Europe/Berlin CET
END:STANDARD
BEGIN:STANDARD
DTSTART:20291028T020000
RDATE:20300331T030000
TZOFFSETFROM:+0200
TZOFFSETTO:+0100
TZNAME:Europe/Berlin CET
END:STANDARD
BEGIN:STANDARD
DTSTART:20301027T020000
RDATE:20310330T030000
TZOFFSETFROM:+0200
TZOFFSETTO:+0100
TZNAME:Europe/Berlin CET
END:STANDARD
BEGIN:STANDARD
DTSTART:20311026T020000
RDATE:20320328T030000
TZOFFSETFROM:+0200
TZOFFSETTO:+0100
TZNAME:Europe/Berlin CET
END:STANDARD
BEGIN:DAYLIGHT
DTSTART:20210328T030000
RDATE:20211031T020000
TZOFFSETFROM:+0100
TZOFFSETTO:+0200
TZNAME:Europe/Berlin CEST
END:DAYLIGHT
BEGIN:DAYLIGHT
DTSTART:20220327T030000
RDATE:20221030T020000
TZOFFSETFROM:+0100
TZOFFSETTO:+0200
TZNAME:Europe/Berlin CEST
END:DAYLIGHT
BEGIN:DAYLIGHT
DTSTART:20230326T030000
RDATE:20231029T020000
TZOFFSETFROM:+0100
TZOFFSETTO:+0200
TZNAME:Europe/Berlin CEST
END:DAYLIGHT
BEGIN:DAYLIGHT
DTSTART:20240331T030000
RDATE:20241027T020000
TZOFFSETFROM:+0100
TZOFFSETTO:+0200
TZNAME:Europe/Berlin CEST
END:DAYLIGHT
BEGIN:DAYLIGHT
DTSTART:20250330T030000
RDATE:20251026T020000
TZOFFSETFROM:+0100
TZOFFSETTO:+0200
TZNAME:Europe/Berlin CEST
END:DAYLIGHT
BEGIN:DAYLIGHT
DTSTART:20260329T030000
RDATE:20261025T020000
TZOFFSETFROM:+0100
TZOFFSETTO:+0200
TZNAME:Europe/Berlin CEST
END:DAYLIGHT
BEGIN:DAYLIGHT
DTSTART:20270328T030000
RDATE:20271031T020000
TZOFFSETFROM:+0100
TZOFFSETTO:+0200
TZNAME:Europe/Berlin CEST
END:DAYLIGHT
BEGIN:DAYLIGHT
DTSTART:20280326T030000
RDATE:20281029T020000
TZOFFSETFROM:+0100
TZOFFSETTO:+0200
TZNAME:Europe/Berlin CEST
END:DAYLIGHT
BEGIN:DAYLIGHT
DTSTART:20290325T030000
RDATE:20291028T020000
TZOFFSETFROM:+0100
TZOFFSETTO:+0200
TZNAME:Europe/Berlin CEST
END:DAYLIGHT
BEGIN:DAYLIGHT
DTSTART:20300331T030000
RDATE:20301027T020000
TZOFFSETFROM:+0100
TZOFFSETTO:+0200
TZNAME:Europe/Berlin CEST
END:DAYLIGHT
BEGIN:DAYLIGHT
DTSTART:20310330T030000
RDATE:20311026T020000
TZOFFSETFROM:+0100
TZOFFSETTO:+0200
TZNAME:Europe/Berlin CEST
END:DAYLIGHT
END:VTIMEZONE
BEGIN:VEVENT
UID:6e1f64f98366fd295e0fd5cfd09cba4c
CATEGORIES:nur für Member
CREATED:20211101T134911
SUMMARY:11-Jahres-Feier der Deutschen Duchenne Stiftung
DESCRIPTION;ENCODING=QUOTED-PRINTABLE:<p>Ihr Lieben,</p><p>bald steht unsere 11-Jahres-Feier der Deutschen Duchen
 ne Stiftung an. Seit vielen Jahren verbindet uns unser Tun, mit dem des Ruh
 rpott-Chapters.</p><p>In den Anfängen war es mir persönlich möglich, auf eu
 ren Veranstaltungen unsere Arbeit für unsere Duchenne erkrankten Kindern vo
 rzustellen. Es haben sich viele schöne Momente angesammelt. Euer Mitwirken 
 und uns zur Seite stehen auf unseren Veranstaltungen, haben das Band nochma
 ls enger geknüpft.</p><p>Auch das Ruhrpott-Chapter unterliegt einem Wandel 
 und in der jüngsten Zeit sind wieder neue Kontakte entstanden, die unser Tu
 n unterstützen. Das finden wir großartig.</p><p>Wir möchten nun besonders, 
 die Member ansprechen, die in den Anfängen uns tatkräftig geholfen haben un
 d als DANKESCHÖN&nbsp; zur 11-Jahres-Feier einladen.</p><p>Auch euer Direct
 or findet, dass die „alten" Member sich auf einen entspannten und unterhalt
 samen Abend am 26. November freuen sollten.</p><p>Bitte sendet eure Anmeldu
 ng direkt an&nbsp;<a href="mailto:silvia.hornkamp@duchenne-stiftung.de"></a
 ><span id="cloak52b7528e5111c5b06c1157a8661c616e">Diese E-Mail-Adresse ist 
 vor Spambots geschützt! Zur Anzeige muss JavaScript eingeschaltet sein!</sp
 an><script type='text/javascript'>
				document.getElementById('cloak52b752
 8e5111c5b06c1157a8661c616e').innerHTML = '';
				var prefix = '&#109;a' + '
 i&#108;' + '&#116;o';
				var path = 'hr' + 'ef' + '=';
				var addy52b7528
 e5111c5b06c1157a8661c616e = 's&#105;lv&#105;&#97;.h&#111;rnk&#97;mp' + '&#6
 4;';
				addy52b7528e5111c5b06c1157a8661c616e = addy52b7528e5111c5b06c1157a
 8661c616e + 'd&#117;ch&#101;nn&#101;-st&#105;ft&#117;ng' + '&#46;' + 'd&#10
 1;';
				var addy_text52b7528e5111c5b06c1157a8661c616e = 's&#105;lv&#105;&#
 97;.h&#111;rnk&#97;mp' + '&#64;' + 'd&#117;ch&#101;nn&#101;-st&#105;ft&#117
 ;ng' + '&#46;' + 'd&#101;';document.getElementById('cloak52b7528e5111c5b06c
 1157a8661c616e').innerHTML += '<a ' + path + '\'' + prefix + ':' + addy52b7
 528e5111c5b06c1157a8661c616e + '\'>'+addy_text52b7528e5111c5b06c1157a8661c6
 16e+'<\/a>';
		</script></p><p>An alle Member sagen wir danke für die Verbu
 ndenheit: Das Wheelchair-Chapter ist nun geboren. Wir verdanken es u.a. eur
 em Charly und unserem Richy ;-) Das werden wir auf jedem auf unserer Feier 
 zum Ausdruck bringen.</p><p>Ganz liebe Grüße</p><p>eure Silvia</p>
DTSTAMP:20260420T032445Z
DTSTART;TZID=Europe/Berlin:20211126T190000
SEQUENCE:0
TRANSP:OPAQUE
END:VEVENT
END:VCALENDAR